BEGIN:VCALENDAR
VERSION:2.0
PRODID:-//Plone.org//NONSGML plone.app.event//EN
X-WR-TIMEZONE:Europe/Madrid
BEGIN:VEVENT
SUMMARY:Pel·lícula: Midnight in Paris, de Woody Allen
DTSTART;TZID=Europe/Madrid;VALUE=DATE-TIME:20121202T180000
DTEND;TZID=Europe/Madrid;VALUE=DATE-TIME:20121202T190000
DTSTAMP;VALUE=DATE-TIME:20260422T165906Z
UID:924dace20488ad3f15e67080d4dfe0b8
CREATED;VALUE=DATE-TIME:20121202T000000Z
CATEGORIES:Cinema
LOCATION:Sala petita de l'Ateneu - Germà Emilià, 1
COMMENT:Preu: gratuït
DESCRIPTION:Cinema a l'Ateneu
URL:https://www.santceloni.cat/document.php?id=9947
END:VEVENT
END:VCALENDAR