BEGIN:VCALENDAR
VERSION:2.0
PRODID:-//Plone.org//NONSGML plone.app.event//EN
X-WR-TIMEZONE:Europe/Madrid
BEGIN:VEVENT
SUMMARY:Festes de Sant Martí 2012
DTSTART;TZID=Europe/Madrid;VALUE=DATE-TIME:20121110T100000
DTEND;TZID=Europe/Madrid;VALUE=DATE-TIME:20121110T110000
DTSTAMP;VALUE=DATE-TIME:20260422T053130Z
UID:e0a7fb8d6ccbde183e3baf4fb465e24d
CREATED;VALUE=DATE-TIME:20121110T000000Z
DESCRIPTION:Actes de dissabte, dia 10
URL:https://www.santceloni.cat/document.php?id=9954
END:VEVENT
END:VCALENDAR